Package: SpatialCPie Version: 1.25.0 Command: /Library/Frameworks/R.framework/Resources/bin/R CMD build --keep-empty-dirs --no-resave-data SpatialCPie StartedAt: 2025-10-24 18:53:04 -0400 (Fri, 24 Oct 2025) EndedAt: 2025-10-24 18:54:02 -0400 (Fri, 24 Oct 2025) EllapsedTime: 58.2 seconds RetCode: 0 Status: OK PackageFile: SpatialCPie_1.25.0.tar.gz PackageFileSize: 1.56 MiB