Package: SparseSignatures Version: 2.19.1 Command: chmod a+r SparseSignatures -R && F:\biocbuild\bbs-3.22-bioc\R\bin\R.exe CMD build --keep-empty-dirs --no-resave-data SparseSignatures StartedAt: 2025-08-14 23:26:14 -0400 (Thu, 14 Aug 2025) EndedAt: 2025-08-14 23:30:20 -0400 (Thu, 14 Aug 2025) EllapsedTime: 245.8 seconds RetCode: 0 Status: OK PackageFile: SparseSignatures_2.19.1.tar.gz PackageFileSize: 1.375 MiB