Package: SparseSignatures Version: 2.19.2 Command: /home/biocbuild/bbs-3.22-bioc/R/bin/R CMD check --install=check:SparseSignatures.install-out.txt --library=/home/biocbuild/bbs-3.22-bioc/R/site-library --timings SparseSignatures_2.19.2.tar.gz StartedAt: 2025-10-17 06:07:19 -0400 (Fri, 17 Oct 2025) EndedAt: 2025-10-17 06:18:46 -0400 (Fri, 17 Oct 2025) EllapsedTime: 687.5 seconds RetCode: 0 Status: OK CheckDir: SparseSignatures.Rcheck Warnings: 0