Package: SparseSignatures Version: 2.17.0 Command: /Library/Frameworks/R.framework/Resources/bin/R CMD INSTALL SparseSignatures StartedAt: 2025-02-03 15:25:29 -0500 (Mon, 03 Feb 2025) EndedAt: 2025-02-03 15:26:19 -0500 (Mon, 03 Feb 2025) EllapsedTime: 50.2 seconds RetCode: 0 Status: OK