Package: Spaniel Version: 1.23.0 Command: rm -rf Spaniel.buildbin-libdir && mkdir Spaniel.buildbin-libdir && F:\biocbuild\bbs-3.22-bioc\R\bin\R.exe CMD INSTALL --build --library=Spaniel.buildbin-libdir Spaniel_1.23.0.tar.gz StartedAt: 2025-08-15 11:22:29 -0400 (Fri, 15 Aug 2025) EndedAt: 2025-08-15 11:23:21 -0400 (Fri, 15 Aug 2025) EllapsedTime: 51.3 seconds RetCode: 0 Status: OK PackageFile: Spaniel_1.23.0.zip PackageFileSize: 3.77 MiB