Package: Spaniel Version: 1.23.0 Command: /Library/Frameworks/R.framework/Resources/bin/R CMD check --install=check:Spaniel.install-out.txt --library=/Library/Frameworks/R.framework/Resources/library --no-vignettes --timings Spaniel_1.23.0.tar.gz StartedAt: 2025-05-06 23:39:18 -0400 (Tue, 06 May 2025) EndedAt: 2025-05-06 23:44:17 -0400 (Tue, 06 May 2025) EllapsedTime: 298.8 seconds RetCode: 0 Status: OK CheckDir: Spaniel.Rcheck Warnings: 0