Package: Spaniel Version: 1.23.0 Command: /Library/Frameworks/R.framework/Resources/bin/R CMD build --keep-empty-dirs --no-resave-data Spaniel StartedAt: 2025-05-06 18:29:01 -0400 (Tue, 06 May 2025) EndedAt: 2025-05-06 18:32:06 -0400 (Tue, 06 May 2025) EllapsedTime: 185.0 seconds RetCode: 0 Status: OK PackageFile: Spaniel_1.23.0.tar.gz PackageFileSize: 4.464 MiB