Package: Spaniel Version: 1.23.0 Command: rm -rf Spaniel.buildbin-libdir && mkdir Spaniel.buildbin-libdir && /Users/biocbuild/BBS/utils/build-universal.sh Spaniel_1.23.0.tar.gz /Library/Frameworks/R.framework/Resources/bin/R Spaniel.buildbin-libdir StartedAt: 2025-05-07 01:07:59 -0400 (Wed, 07 May 2025) EndedAt: 2025-05-07 01:08:59 -0400 (Wed, 07 May 2025) EllapsedTime: 59.9 seconds RetCode: 0 Status: OK PackageFile: Spaniel_1.23.0.tgz PackageFileSize: 4.515 MiB