Package: Spaniel Version: 1.23.0 Command: rm -rf Spaniel.buildbin-libdir && mkdir Spaniel.buildbin-libdir && /Users/biocbuild/BBS/utils/build-universal.sh Spaniel_1.23.0.tar.gz /Library/Frameworks/R.framework/Resources/bin/R Spaniel.buildbin-libdir StartedAt: 2025-05-08 23:31:56 -0400 (Thu, 08 May 2025) EndedAt: 2025-05-08 23:32:15 -0400 (Thu, 08 May 2025) EllapsedTime: 19.4 seconds RetCode: 0 Status: OK PackageFile: Spaniel_1.23.0.tgz PackageFileSize: 4.532 MiB