Package: SpaceTrooper Version: 0.99.42 Command: /home/biocbuild/bbs-3.22-bioc/R/bin/R CMD INSTALL SpaceTrooper StartedAt: 2025-10-06 15:53:00 -0400 (Mon, 06 Oct 2025) EndedAt: 2025-10-06 15:53:56 -0400 (Mon, 06 Oct 2025) EllapsedTime: 56.1 seconds RetCode: 0 Status: OK