Package: SpaceTrooper Version: 0.99.42 Command: /home/biocbuild/bbs-3.22-bioc/R/bin/R CMD build --keep-empty-dirs --no-resave-data --md5 SpaceTrooper StartedAt: 2025-10-06 20:10:00 -0400 (Mon, 06 Oct 2025) EndedAt: 2025-10-06 20:11:57 -0400 (Mon, 06 Oct 2025) EllapsedTime: 117.1 seconds RetCode: 0 Status: OK PackageFile: SpaceTrooper_0.99.42.tar.gz PackageFileSize: 5.198 MiB