Package: SpaceTrooper Version: 1.1.0 Command: /home/biocbuild/bbs-3.23-bioc/R/bin/R CMD INSTALL SpaceTrooper StartedAt: 2025-11-23 15:56:05 -0500 (Sun, 23 Nov 2025) EndedAt: 2025-11-23 15:56:43 -0500 (Sun, 23 Nov 2025) EllapsedTime: 38.6 seconds RetCode: 0 Status: OK