Package: SpaceTrooper Version: 1.1.0 Command: /Library/Frameworks/R.framework/Resources/bin/R CMD INSTALL SpaceTrooper StartedAt: 2025-11-25 16:04:40 -0500 (Tue, 25 Nov 2025) EndedAt: 2025-11-25 16:05:35 -0500 (Tue, 25 Nov 2025) EllapsedTime: 54.7 seconds RetCode: 0 Status: OK