Package: SpaceTrooper Version: 1.1.0 Command: /Library/Frameworks/R.framework/Resources/bin/R CMD build --keep-empty-dirs --no-resave-data SpaceTrooper StartedAt: 2025-11-25 18:59:01 -0500 (Tue, 25 Nov 2025) EndedAt: 2025-11-25 19:00:51 -0500 (Tue, 25 Nov 2025) EllapsedTime: 109.7 seconds RetCode: 0 Status: OK PackageFile: SpaceTrooper_1.1.0.tar.gz PackageFileSize: 6.25 MiB