Package: SpaceTrooper Version: 1.1.0 Command: rm -rf SpaceTrooper.buildbin-libdir && mkdir SpaceTrooper.buildbin-libdir && /Users/biocbuild/BBS/utils/build-universal.sh SpaceTrooper_1.1.0.tar.gz /Library/Frameworks/R.framework/Resources/bin/R SpaceTrooper.buildbin-libdir StartedAt: 2025-11-26 02:11:14 -0500 (Wed, 26 Nov 2025) EndedAt: 2025-11-26 02:12:12 -0500 (Wed, 26 Nov 2025) EllapsedTime: 58.9 seconds RetCode: 0 Status: OK PackageFile: SpaceTrooper_1.1.0.tgz PackageFileSize: 6.448 MiB