Package: SpacePAC Version: 1.45.0 Command: E:\biocbuild\bbs-3.21-bioc\R\bin\R.exe CMD INSTALL SpacePAC StartedAt: 2025-02-03 16:12:58 -0500 (Mon, 03 Feb 2025) EndedAt: 2025-02-03 16:13:16 -0500 (Mon, 03 Feb 2025) EllapsedTime: 18.3 seconds RetCode: 0 Status: OK