Package: SpacePAC Version: 1.45.0 Command: chmod a+r SpacePAC -R && E:\biocbuild\bbs-3.21-bioc\R\bin\R.exe CMD build --keep-empty-dirs --no-resave-data SpacePAC StartedAt: 2025-02-03 21:59:27 -0500 (Mon, 03 Feb 2025) EndedAt: 2025-02-03 22:00:42 -0500 (Mon, 03 Feb 2025) EllapsedTime: 74.9 seconds RetCode: 0 Status: OK PackageFile: SpacePAC_1.45.0.tar.gz PackageFileSize: 1.699 MiB