Package: SpacePAC Version: 1.45.0 Command: /home/biocbuild/bbs-3.21-bioc/R/bin/R CMD INSTALL SpacePAC StartedAt: 2025-02-05 15:50:27 -0500 (Wed, 05 Feb 2025) EndedAt: 2025-02-05 15:50:41 -0500 (Wed, 05 Feb 2025) EllapsedTime: 14.0 seconds RetCode: 0 Status: OK