Package: SpacePAC Version: 1.45.0 Command: /Library/Frameworks/R.framework/Resources/bin/R CMD INSTALL SpacePAC StartedAt: 2025-02-05 15:34:40 -0500 (Wed, 05 Feb 2025) EndedAt: 2025-02-05 15:35:00 -0500 (Wed, 05 Feb 2025) EllapsedTime: 19.9 seconds RetCode: 0 Status: OK