Package: SpacePAC Version: 1.45.0 Command: /Library/Frameworks/R.framework/Resources/bin/R CMD build --keep-empty-dirs --no-resave-data SpacePAC StartedAt: 2025-02-05 18:24:05 -0500 (Wed, 05 Feb 2025) EndedAt: 2025-02-05 18:25:16 -0500 (Wed, 05 Feb 2025) EllapsedTime: 70.7 seconds RetCode: 0 Status: OK PackageFile: SpacePAC_1.45.0.tar.gz PackageFileSize: 1.889 MiB