Package: SpacePAC Version: 1.45.0 Command: rm -rf SpacePAC.buildbin-libdir && mkdir SpacePAC.buildbin-libdir && /Users/biocbuild/BBS/utils/build-universal.sh SpacePAC_1.45.0.tar.gz /Library/Frameworks/R.framework/Resources/bin/R SpacePAC.buildbin-libdir StartedAt: 2025-02-06 00:54:06 -0500 (Thu, 06 Feb 2025) EndedAt: 2025-02-06 00:54:27 -0500 (Thu, 06 Feb 2025) EllapsedTime: 20.8 seconds RetCode: 0 Status: OK PackageFile: SpacePAC_1.45.0.tgz PackageFileSize: 1.183 MiB