Package: SpacePAC Version: 1.45.0 Command: /home/biocbuild/R/R/bin/R CMD INSTALL SpacePAC StartedAt: 2025-01-29 20:21:49 -0000 (Wed, 29 Jan 2025) EndedAt: 2025-01-29 20:22:09 -0000 (Wed, 29 Jan 2025) EllapsedTime: 19.6 seconds RetCode: 0 Status: OK