Package: SpacePAC Version: 1.45.0 Command: /home/biocbuild/R/R/bin/R CMD build --keep-empty-dirs --no-resave-data SpacePAC StartedAt: 2025-01-29 02:28:53 -0000 (Wed, 29 Jan 2025) EndedAt: 2025-01-29 02:30:25 -0000 (Wed, 29 Jan 2025) EllapsedTime: 92.1 seconds RetCode: 0 Status: OK PackageFile: SpacePAC_1.45.0.tar.gz PackageFileSize: 1.887 MiB