Package: SpacePAC Version: 1.45.0 Command: /Library/Frameworks/R.framework/Resources/bin/R CMD build --keep-empty-dirs --no-resave-data SpacePAC StartedAt: 2025-02-03 18:16:11 -0500 (Mon, 03 Feb 2025) EndedAt: 2025-02-03 18:16:40 -0500 (Mon, 03 Feb 2025) EllapsedTime: 29.3 seconds RetCode: 0 Status: OK PackageFile: SpacePAC_1.45.0.tar.gz PackageFileSize: 1.889 MiB