Package: SpacePAC Version: 1.45.0 Command: rm -rf SpacePAC.buildbin-libdir && mkdir SpacePAC.buildbin-libdir && /Users/biocbuild/BBS/utils/build-universal.sh SpacePAC_1.45.0.tar.gz /Library/Frameworks/R.framework/Resources/bin/R SpacePAC.buildbin-libdir StartedAt: 2025-02-05 22:36:38 -0500 (Wed, 05 Feb 2025) EndedAt: 2025-02-05 22:36:45 -0500 (Wed, 05 Feb 2025) EllapsedTime: 7.1 seconds RetCode: 0 Status: OK PackageFile: SpacePAC_1.45.0.tgz PackageFileSize: 1.184 MiB