Package: SpaceMarkers Version: 1.5.0 Command: rm -rf SpaceMarkers.buildbin-libdir && mkdir SpaceMarkers.buildbin-libdir && /Users/biocbuild/BBS/utils/build-universal.sh SpaceMarkers_1.5.0.tar.gz /Library/Frameworks/R.framework/Resources/bin/R SpaceMarkers.buildbin-libdir StartedAt: 2025-09-09 22:57:29 -0400 (Tue, 09 Sep 2025) EndedAt: 2025-09-09 22:57:35 -0400 (Tue, 09 Sep 2025) EllapsedTime: 6.1 seconds RetCode: 0 Status: OK PackageFile: SpaceMarkers_1.5.0.tgz PackageFileSize: 3.063 MiB