Package: SpaNorm Version: 1.3.0 Command: chmod a+r SpaNorm -R && F:\biocbuild\bbs-3.22-bioc\R\bin\R.exe CMD build --keep-empty-dirs --no-resave-data SpaNorm StartedAt: 2025-08-14 23:25:06 -0400 (Thu, 14 Aug 2025) EndedAt: 2025-08-14 23:35:30 -0400 (Thu, 14 Aug 2025) EllapsedTime: 624.1 seconds RetCode: 0 Status: OK PackageFile: SpaNorm_1.3.0.tar.gz PackageFileSize: 5.545 MiB