Package: SpaNorm Version: 1.3.0 Command: rm -rf SpaNorm.buildbin-libdir && mkdir SpaNorm.buildbin-libdir && F:\biocbuild\bbs-3.22-bioc\R\bin\R.exe CMD INSTALL --build --library=SpaNorm.buildbin-libdir SpaNorm_1.3.0.tar.gz StartedAt: 2025-08-15 11:22:39 -0400 (Fri, 15 Aug 2025) EndedAt: 2025-08-15 11:22:54 -0400 (Fri, 15 Aug 2025) EllapsedTime: 14.4 seconds RetCode: 0 Status: OK PackageFile: SpaNorm_1.3.0.zip PackageFileSize: 5.076 MiB