Package: SmartPhos Version: 0.99.30 Command: /home/biocbuild/bbs-3.22-bioc/R/bin/R CMD INSTALL SmartPhos StartedAt: 2025-10-17 15:35:32 -0400 (Fri, 17 Oct 2025) EndedAt: 2025-10-17 15:36:04 -0400 (Fri, 17 Oct 2025) EllapsedTime: 32.2 seconds RetCode: 0 Status: OK