Package: SmartPhos Version: 0.99.30 Command: /home/biocbuild/bbs-3.22-bioc/R/bin/R CMD build --keep-empty-dirs --no-resave-data --md5 SmartPhos StartedAt: 2025-10-19 20:08:45 -0400 (Sun, 19 Oct 2025) EndedAt: 2025-10-19 20:10:30 -0400 (Sun, 19 Oct 2025) EllapsedTime: 105.1 seconds RetCode: 0 Status: OK PackageFile: SmartPhos_0.99.30.tar.gz PackageFileSize: 20.2 MiB