Package: SmartPhos Version: 1.1.0 Command: /home/biocbuild/bbs-3.23-bioc/R/bin/R CMD build --keep-empty-dirs --no-resave-data SmartPhos StartedAt: 2025-11-11 20:14:10 -0500 (Tue, 11 Nov 2025) EndedAt: 2025-11-11 20:15:56 -0500 (Tue, 11 Nov 2025) EllapsedTime: 106.2 seconds RetCode: 0 Status: OK PackageFile: SmartPhos_1.1.0.tar.gz PackageFileSize: 20.22 MiB