Package: Site2Target Version: 1.1.0 Command: /home/biocbuild/bbs-3.22-bioc/R/bin/R CMD INSTALL Site2Target StartedAt: 2025-10-13 15:18:49 -0400 (Mon, 13 Oct 2025) EndedAt: 2025-10-13 15:18:51 -0400 (Mon, 13 Oct 2025) EllapsedTime: 2.5 seconds RetCode: 0 Status: OK