Package: Site2Target Version: 1.3.0 Command: /Library/Frameworks/R.framework/Resources/bin/R CMD INSTALL Site2Target StartedAt: 2025-11-21 15:10:45 -0500 (Fri, 21 Nov 2025) EndedAt: 2025-11-21 15:10:46 -0500 (Fri, 21 Nov 2025) EllapsedTime: 1.5 seconds RetCode: 0 Status: OK