Package: Site2Target Version: 1.3.0 Command: /Library/Frameworks/R.framework/Resources/bin/R CMD build --keep-empty-dirs --no-resave-data Site2Target StartedAt: 2025-11-21 17:41:05 -0500 (Fri, 21 Nov 2025) EndedAt: 2025-11-21 17:41:19 -0500 (Fri, 21 Nov 2025) EllapsedTime: 14.2 seconds RetCode: 0 Status: OK PackageFile: Site2Target_1.3.0.tar.gz PackageFileSize: 441.7 KiB