Package: Site2Target Version: 1.3.0 Command: rm -rf Site2Target.buildbin-libdir && mkdir Site2Target.buildbin-libdir && /Users/biocbuild/BBS/utils/build-universal.sh Site2Target_1.3.0.tar.gz /Library/Frameworks/R.framework/Resources/bin/R Site2Target.buildbin-libdir StartedAt: 2025-11-21 23:52:08 -0500 (Fri, 21 Nov 2025) EndedAt: 2025-11-21 23:52:10 -0500 (Fri, 21 Nov 2025) EllapsedTime: 2.1 seconds RetCode: 0 Status: OK PackageFile: Site2Target_1.3.0.tgz PackageFileSize: 510.9 KiB