Package: SingleR Version: 2.11.3 Command: /home/biocbuild/R/R/bin/R CMD build --keep-empty-dirs --no-resave-data SingleR StartedAt: 2025-10-17 04:42:06 -0000 (Fri, 17 Oct 2025) EndedAt: 2025-10-17 04:44:32 -0000 (Fri, 17 Oct 2025) EllapsedTime: 146.1 seconds RetCode: 0 Status: OK PackageFile: SingleR_2.11.3.tar.gz PackageFileSize: 552.8 KiB