Package: SingleR Version: 2.9.4 Command: /home/biocbuild/R/R/bin/R CMD INSTALL SingleR StartedAt: 2025-01-29 19:47:05 -0000 (Wed, 29 Jan 2025) EndedAt: 2025-01-29 19:48:39 -0000 (Wed, 29 Jan 2025) EllapsedTime: 94.2 seconds RetCode: 0 Status: OK