Package: SingleR Version: 2.9.4 Command: /home/biocbuild/R/R/bin/R CMD check --install=check:SingleR.install-out.txt --library=/home/biocbuild/R/R/site-library --no-vignettes --timings SingleR_2.9.4.tar.gz StartedAt: 2025-01-28 15:24:14 -0000 (Tue, 28 Jan 2025) EndedAt: 2025-01-28 15:29:39 -0000 (Tue, 28 Jan 2025) EllapsedTime: 325.3 seconds RetCode: 0 Status: OK CheckDir: SingleR.Rcheck Warnings: 0