Package: SingleR Version: 2.11.0 Command: /Library/Frameworks/R.framework/Resources/bin/R CMD build --keep-empty-dirs --no-resave-data SingleR StartedAt: 2025-05-08 17:44:36 -0400 (Thu, 08 May 2025) EndedAt: 2025-05-08 17:45:18 -0400 (Thu, 08 May 2025) EllapsedTime: 41.5 seconds RetCode: 0 Status: OK PackageFile: SingleR_2.11.0.tar.gz PackageFileSize: 742.1 KiB