Package: SingleR Version: 2.11.0 Command: rm -rf SingleR.buildbin-libdir && mkdir SingleR.buildbin-libdir && /Users/biocbuild/BBS/utils/build-universal.sh SingleR_2.11.0.tar.gz /Library/Frameworks/R.framework/Resources/bin/R SingleR.buildbin-libdir StartedAt: 2025-05-08 23:31:24 -0400 (Thu, 08 May 2025) EndedAt: 2025-05-08 23:31:48 -0400 (Thu, 08 May 2025) EllapsedTime: 23.5 seconds RetCode: 0 Status: OK PackageFile: SingleR_2.11.0.tgz PackageFileSize: 967.1 KiB