Package: SingleMoleculeFootprinting Version: 2.3.2 Command: /home/biocbuild/R/R/bin/R CMD build --keep-empty-dirs --no-resave-data SingleMoleculeFootprinting StartedAt: 2025-09-30 03:22:03 -0000 (Tue, 30 Sep 2025) EndedAt: 2025-09-30 03:23:34 -0000 (Tue, 30 Sep 2025) EllapsedTime: 91.0 seconds RetCode: 1 Status: ERROR PackageFile: None PackageFileSize: NA