Package: SingleMoleculeFootprinting Version: 2.3.2 Command: chmod a+r SingleMoleculeFootprinting -R && F:\biocbuild\bbs-3.22-bioc\R\bin\R.exe CMD build --keep-empty-dirs --no-resave-data SingleMoleculeFootprinting StartedAt: 2025-08-14 23:20:28 -0400 (Thu, 14 Aug 2025) EndedAt: 2025-08-14 23:24:39 -0400 (Thu, 14 Aug 2025) EllapsedTime: 250.6 seconds RetCode: 0 Status: OK PackageFile: SingleMoleculeFootprinting_2.3.2.tar.gz PackageFileSize: 3.143 MiB