Package: SingleMoleculeFootprinting Version: 2.1.0 Command: rm -rf SingleMoleculeFootprinting.buildbin-libdir && mkdir SingleMoleculeFootprinting.buildbin-libdir && E:\biocbuild\bbs-3.21-bioc\R\bin\R.exe CMD INSTALL --build --library=SingleMoleculeFootprinting.buildbin-libdir SingleMoleculeFootprinting_2.1.0.tar.gz StartedAt: 2025-01-11 08:38:46 -0500 (Sat, 11 Jan 2025) EndedAt: 2025-01-11 08:49:27 -0500 (Sat, 11 Jan 2025) EllapsedTime: 640.7 seconds RetCode: 0 Status: OK PackageFile: SingleMoleculeFootprinting_2.1.0.zip PackageFileSize: 3.219 MiB