Package: SingleCellSignalR Version: 1.19.0 Command: /Library/Frameworks/R.framework/Resources/bin/R CMD build --keep-empty-dirs --no-resave-data SingleCellSignalR StartedAt: 2025-02-16 18:14:02 -0500 (Sun, 16 Feb 2025) EndedAt: 2025-02-16 18:15:28 -0500 (Sun, 16 Feb 2025) EllapsedTime: 86.7 seconds RetCode: 0 Status: OK PackageFile: SingleCellSignalR_1.19.0.tar.gz PackageFileSize: 4.486 MiB