Package: SingleCellSignalR Version: 1.19.0 Command: rm -rf SingleCellSignalR.buildbin-libdir && mkdir SingleCellSignalR.buildbin-libdir && /Users/biocbuild/BBS/utils/build-universal.sh SingleCellSignalR_1.19.0.tar.gz /Library/Frameworks/R.framework/Resources/bin/R SingleCellSignalR.buildbin-libdir StartedAt: 2025-02-16 22:29:36 -0500 (Sun, 16 Feb 2025) EndedAt: 2025-02-16 22:29:54 -0500 (Sun, 16 Feb 2025) EllapsedTime: 18.3 seconds RetCode: 0 Status: OK PackageFile: SingleCellSignalR_1.19.0.tgz PackageFileSize: 6.631 MiB