Package: SingleCellExperiment Version: 1.31.1 Command: chmod a+r SingleCellExperiment -R && F:\biocbuild\bbs-3.22-bioc\R\bin\R.exe CMD build --keep-empty-dirs --no-resave-data SingleCellExperiment StartedAt: 2025-08-14 23:19:44 -0400 (Thu, 14 Aug 2025) EndedAt: 2025-08-14 23:21:42 -0400 (Thu, 14 Aug 2025) EllapsedTime: 118.2 seconds RetCode: 0 Status: OK PackageFile: SingleCellExperiment_1.31.1.tar.gz PackageFileSize: 963.1 KiB