Package: SingleCellExperiment Version: 1.31.1 Command: rm -rf SingleCellExperiment.buildbin-libdir && mkdir SingleCellExperiment.buildbin-libdir && F:\biocbuild\bbs-3.22-bioc\R\bin\R.exe CMD INSTALL --build --library=SingleCellExperiment.buildbin-libdir SingleCellExperiment_1.31.1.tar.gz StartedAt: 2025-08-15 11:20:44 -0400 (Fri, 15 Aug 2025) EndedAt: 2025-08-15 11:28:42 -0400 (Fri, 15 Aug 2025) EllapsedTime: 477.5 seconds RetCode: 0 Status: OK PackageFile: SingleCellExperiment_1.31.1.zip PackageFileSize: 1.92 MiB