Package: SingleCellAlleleExperiment Version: 1.5.1 Command: /home/biocbuild/bbs-3.22-bioc/R/bin/R CMD INSTALL SingleCellAlleleExperiment StartedAt: 2025-09-30 15:19:34 -0400 (Tue, 30 Sep 2025) EndedAt: 2025-09-30 15:19:59 -0400 (Tue, 30 Sep 2025) EllapsedTime: 24.2 seconds RetCode: 0 Status: OK