Package: SingleCellAlleleExperiment Version: 1.5.1 Command: /home/biocbuild/bbs-3.22-bioc/R/bin/R CMD build --keep-empty-dirs --no-resave-data --md5 SingleCellAlleleExperiment StartedAt: 2025-10-02 20:06:54 -0400 (Thu, 02 Oct 2025) EndedAt: 2025-10-02 20:13:25 -0400 (Thu, 02 Oct 2025) EllapsedTime: 391.4 seconds RetCode: 0 Status: OK PackageFile: SingleCellAlleleExperiment_1.5.1.tar.gz PackageFileSize: 2.328 MiB