Package: SimFFPE Version: 1.21.0 Command: rm -rf SimFFPE.buildbin-libdir && mkdir SimFFPE.buildbin-libdir && F:\biocbuild\bbs-3.22-bioc\R\bin\R.exe CMD INSTALL --build --library=SimFFPE.buildbin-libdir SimFFPE_1.21.0.tar.gz StartedAt: 2025-08-15 11:20:26 -0400 (Fri, 15 Aug 2025) EndedAt: 2025-08-15 11:20:52 -0400 (Fri, 15 Aug 2025) EllapsedTime: 25.9 seconds RetCode: 0 Status: OK PackageFile: SimFFPE_1.21.0.zip PackageFileSize: 802.3 KiB